BEGIN:VCALENDAR
VERSION:2.0
PRODID:icalendar-ruby
CALSCALE:GREGORIAN
METHOD:PUBLISH
BEGIN:VEVENT
DTSTAMP:20260424T140628Z
UID:185-1075051@fbcmf.ca
DTSTART:20260923T230000Z
DTEND:20260924T000000Z
CLASS:PUBLIC
CREATED:20260424T085555
DESCRIPTION:Join us for a time of prayer and study.
LAST-MODIFIED:20260424T085555
LOCATION:
SUMMARY:Prayer Meeting
URL;VALUE=URI:https://www.fbcmf.ca/events/prayer-meeting/2026-09-23
ATTACH;FILENAME=Copy of Prayer Meeting.jpg;FMTTYPE=image/jpeg:https://dq5pw
 pg1q8ru0.cloudfront.net/2024/12/24/14/37/20/f5194664-c63e-4af8-92b4-84f7da
 28cc99/Copy%20of%20Prayer%20Meeting.jpg
END:VEVENT
END:VCALENDAR
